BEGIN:VCALENDAR
VERSION:2.0
PRODID:-//Q2//App//EN
CALSCALE:GREGORIAN
METHOD:PUBLISH
BEGIN:VTIMEZONE
TZID:America/Toronto
BEGIN:STANDARD
DTSTART:20271107T010000
TZOFFSETFROM:-0400
TZOFFSETTO:-0500
TZNAME:EST
END:STANDARD
BEGIN:DAYLIGHT
DTSTART:20270314T030000
TZOFFSETFROM:-0500
TZOFFSETTO:-0400
TZNAME:EDT
END:DAYLIGHT
END:VTIMEZONE
BEGIN:VEVENT
UID:516@q2lifespan.com
DTSTAMP:20260423T083819Z
DTSTART;TZID=America/Toronto:20251129T090000
DTEND;TZID=America/Toronto:20251129T130000
SUMMARY:(FULL) DEXA Scan (Radiomedic) November 29th\, 2025
STATUS:CONFIRMED
DESCRIPTION:Update: All bookings are now closed!\n\nLocation: Radiomedic (h
 ttps://maps.app.goo.gl/vX7KsWQEEie5SWkC6)\nPrice: 95 dollars per person\n\
 n---\n\nOverview\n\nWe have a dedicated clinic day for community DEXA scan
 s starting at 9:00 AM. The clinic can scan about 3 to 4 participants per h
 our. The date is reserved exclusively for us\, provided we reach at least 
 10 paid registrations by Saturday\, November 22. Additional participants m
 ay join until Friday\, November 28 at 12:00 PM.\n\n(EN) To know more about
  DEXA scans:\nhttps://radiomedic.ca/en/service/body-composition-dexa-scan/
  (https://www.google.com/url?q=https%3A%2F%2Fradiomedic.ca%2Fen%2Fservice%
 2Fbody-composition-dexa-scan%2F&sa=D&source=calendar&usd=2&usg=AOvVaw18TBQ
 vkTVeScVnYYagcpdx)\n\n(FR) Pour en savoir plus sur les DEXA scan:\nhttps:/
 /radiomedic.ca/services/analyse-de-la-composition-corporelle-par-dexa-scan
 / (https://www.google.com/url?q=https%3A%2F%2Fradiomedic.ca%2Fservices%2Fa
 nalyse-de-la-composition-corporelle-par-dexa-scan%2F&sa=D&source=calendar&
 usd=2&usg=AOvVaw1__1iIYounN207_JkKzD8G)\n\n---\n\nHow to register\n\nAll D
 EXA scans in Québec require require a prescription\, which is being gener
 ously provided by Dr. Maude Caron.\n\nTo be included\, email all of the fo
 llowing to anrif@longevitymontreal.com (mailto:anrif@longevitymontreal.com
 ):\n\n • Full name\n\n • Date of birth\n\n • Québec Health Insuranc
 e Number (RAMQ) + its expiration date\n\n • Email\n\n • Phone number\n
 \n • & Confirmation that you have paid the $95 registration at the link 
 below ⬇️\n\n • https://square.link/u/orWkNece?src=sheet\n\nTiming no
 te: The latest to submit is Wednesday\, November 19 at 6:00 PM. Out of res
 pect for the professionals preparing your prescription and the clinic’s 
 scheduling\, please send your information as soon as you know you will par
 ticipate.\n\nAfter we submit the batch to Dr. Caron and receive the clinic
 ’s go-ahead for your slot\, proceed with payment at the clinic’s desig
 nated portal. In the same email you send with your info\, please include a
  sentence confirming you have paid once you complete it. Example: “Payme
 nt completed.”\nEmail subject suggestion: DEXA 2025-11-29 — [Your Full
  Name]\n\n---\n\nUpdate: All bookings are now closed!\n\nDeadlines and pol
 icies\n\n • Additions: allowed until Friday\, November 28 at 12:00 PM\n\
 n • Cancellations or changes:\n\n • Free until Friday\, November 21 in
 clusive (if you've already paid)\n\n • From Saturday\, November 22: $25
 fee for any cancellation or change\n\n • First-time scans are welcome. 
 A prior DEXA is not required.\n\n---\n\nDay-of\n\n • Please arrive 10 mi
 nutes before your assigned time\n\n • Address for the clinic (https://ma
 ps.app.goo.gl/vX7KsWQEEie5SWkC6)\n\n • Throughput is 3 to 4 scans per ho
 ur starting at 9:00 AM\n\n • Plan 30 to 45 minutes total time at the cli
 nic\, including intake and scan\n\n • You will receive results per the c
 linic’s standard process. We will host a follow-up community call to int
 erpret results and set goals.\n\n---\n\nWhat to bring\n\n • Government I
 D and RAMQ card\n\n • Any relevant referral details if requested in your
  confirmation\n\n • Comfortable clothing without metal where possible\n\
 n---\n\nPrivacy note\n\nYour RAMQ and date of birth are sensitive health i
 dentifiers. Submit them only by email to anrif@longevitymontreal.com (mail
 to:anrif@longevitymontreal.com) as instructed above. We will batch-submit 
 to Dr. Maude Caron for prescriptions and coordinate with the clinic.\n\n--
 -\n\nQuestions?\n\nYou can reach me via WhatsApp or email at anrif@longev
 itymontreal.com (mailto:anrif@longevitymontreal.com) as per your preferenc
 e.\n\nGroup communications will be taking place in our community's dedicat
 ed DEXA chat (https://chat.whatsapp.com/J7h199WIMyAA4aStKS0hwP).\n\nReserv
 e your spot by emailing your info\, with confirmation of your payment. \n\
 nSee you on Saturday\, November 29!\n\n-Anrif
X-ALT-DESC;FMTTYPE=text/html:<h1 style="text-align: center"><span style="te
 xt-decoration: underline"><strong>Update: All bookings are now closed!</st
 rong></span></h1>\n<strong>Location:</strong> <a href="https://maps.app.go
 o.gl/vX7KsWQEEie5SWkC6">Radiomedic</a>\n<strong>Price:</strong> 95 dollars
  per person\n\n<hr />\n\n<h2>Overview</h2>\nWe have a dedicated clinic day
  for community DEXA scans starting at 9:00 AM. The clinic can scan about 3
  to 4 participants per hour. The date is reserved exclusively for us\, pro
 vided we reach <strong>at least 10 paid registrations by Saturday\, Novemb
 er 22</strong>. Additional participants may join until <strong>Friday\, No
 vember 28 at 12:00 PM</strong>.\n\n(EN) To know more about DEXA scans:\n<a
  href="https://www.google.com/url?q=https%3A%2F%2Fradiomedic.ca%2Fen%2Fser
 vice%2Fbody-composition-dexa-scan%2F&amp\;sa=D&amp\;source=calendar&amp\;u
 sd=2&amp\;usg=AOvVaw18TBQvkTVeScVnYYagcpdx" target="_blank" rel="noopener"
  data-saferedirecturl="https://www.google.com/url?q=https://www.google.com
 /url?q%3Dhttps%253A%252F%252Fradiomedic.ca%252Fen%252Fservice%252Fbody-com
 position-dexa-scan%252F%26sa%3DD%26source%3Dcalendar%26usd%3D2%26usg%3DAOv
 Vaw18TBQvkTVeScVnYYagcpdx&amp\;source=gmail&amp\;ust=1762899920528000&amp\
 ;usg=AOvVaw3erDthQmBW14YbcgDs8aax">https://radiomedic.ca/en/service/body-c
 omposition-dexa-scan/</a>\n\n(FR) Pour en savoir plus sur les DEXA scan:\n
 <a href="https://www.google.com/url?q=https%3A%2F%2Fradiomedic.ca%2Fservic
 es%2Fanalyse-de-la-composition-corporelle-par-dexa-scan%2F&amp\;sa=D&amp\;
 source=calendar&amp\;usd=2&amp\;usg=AOvVaw1__1iIYounN207_JkKzD8G" target="
 _blank" rel="noopener" data-saferedirecturl="https://www.google.com/url?q=
 https://www.google.com/url?q%3Dhttps%253A%252F%252Fradiomedic.ca%252Fservi
 ces%252Fanalyse-de-la-composition-corporelle-par-dexa-scan%252F%26sa%3DD%2
 6source%3Dcalendar%26usd%3D2%26usg%3DAOvVaw1__1iIYounN207_JkKzD8G&amp\;sou
 rce=gmail&amp\;ust=1762899920528000&amp\;usg=AOvVaw2oc20_8JgZ5E2dkjJ_7NP4"
 >https://radiomedic.ca/services/analyse-de-la-composition-corporelle-par-d
 exa-scan/</a>\n\n<hr />\n\n<h2>How to register</h2>\nAll DEXA scans in Qu
 bec require require a prescription\, which is being generously provided b
 y <strong>Dr. Maude Caron</strong>.\n\nTo be included\, email <strong>all<
 /strong> of the following to <strong><a href="mailto:anrif@longevitymontre
 al.com">anrif@longevitymontreal.com</a></strong>:\n<ul>\n 	<li>Full name</
 li>\n 	<li>Date of birth</li>\n 	<li>Québec Health Insurance Number (RAMQ
 ) + <span style="text-decoration: underline"><strong>its expiration date</
 strong></span></li>\n 	<li>Email</li>\n 	<li>Phone number</li>\n 	<li><str
 ong>&amp\; Confirmation that you have paid the $95 registration at the lin
 k below ⬇️</strong>\n<ul>\n 	<li><a href="https://square.link/u/orWkNe
 ce?src=sheet" target="_blank" rel="noopener" data-saferedirecturl="https:/
 /www.google.com/url?q=https://square.link/u/orWkNece?src%3Dsheet&amp\;sour
 ce=gmail&amp\;ust=1762899326679000&amp\;usg=AOvVaw2bqsM65G-rCp2GuLwNojAU">
 https://square.link/u/orWkNece?src=sheet</a></li>\n</ul>\n</li>\n</ul>\n<s
 trong>Timing note:</strong> The <strong>latest</strong> to submit is <stro
 ng>Wednesday\, November 19 at 6:00 PM</strong>. Out of respect for the pro
 fessionals preparing your prescription and the clinic’s scheduling\, <st
 rong>please send your information as soon as you know you will participate
 </strong>.\n\nAfter we submit the batch to Dr. Caron and receive the clini
 c’s go-ahead for your slot\, proceed with payment at the clinic’s desi
 gnated portal. <strong>In the same email you send with your info\, please 
 include a sentence confirming you have paid</strong> once you complete it.
  Example: “Payment completed.”\n<blockquote>Email subject suggestion: 
 <strong>DEXA 2025-11-29 — [Your Full Name]</strong></blockquote>\n\n<hr 
 />\n\n<h1 style="text-align: center"><strong>Update: All bookings are now 
 closed!</strong></h1>\n<h2>Deadlines and policies</h2>\n<ul>\n 	<li><stron
 g>Additions:</strong> allowed until <strong>Friday\, November 28 at 12:00 
 PM</strong></li>\n 	<li><strong>Cancellations or changes:</strong>\n<ul>\n
  	<li>Free until <strong>Friday\, November 21</strong> inclusive <em>(if y
 ou've already paid)</em></li>\n 	<li>From <strong>Saturday\, November 22:<
 /strong> <strong>$25 </strong>fee for any cancellation or change</li>\n</
 ul>\n</li>\n 	<li>First-time scans are welcome. A prior DEXA is <strong>no
 t</strong> required.</li>\n</ul>\n\n<hr />\n\n<h2>Day-of</h2>\n<ul>\n 	<li
 >Please arrive <strong>10 minutes</strong> before your assigned time\n<ul>
 \n 	<li><a href="https://maps.app.goo.gl/vX7KsWQEEie5SWkC6">Address for th
 e clinic</a></li>\n</ul>\n</li>\n 	<li>Throughput is <strong>3 to 4 scans 
 per hour</strong> starting at <strong>9:00 AM</strong></li>\n 	<li>Plan <s
 trong>30 to 45 minutes</strong> total time at the clinic\, including intak
 e and scan</li>\n 	<li>You will receive results per the clinic’s standar
 d process. We will host a follow-up community call to interpret results an
 d set goals.</li>\n</ul>\n\n<hr />\n\n<h2>What to bring</h2>\n<ul>\n 	<li>
 Government ID and <strong>RAMQ</strong> card</li>\n 	<li>Any relevant refe
 rral details if requested in your confirmation</li>\n 	<li>Comfortable clo
 thing without metal where possible</li>\n</ul>\n\n<hr />\n\n<h2>Privacy no
 te</h2>\nYour RAMQ and date of birth are sensitive health identifiers. Sub
 mit them <strong>only</strong> by email to <strong><a href="mailto:anrif@l
 ongevitymontreal.com">anrif@longevitymontreal.com</a></strong> as instruct
 ed above. We will batch-submit to <strong>Dr. Maude Caron</strong> for pre
 scriptions and coordinate with the clinic.\n\n<hr />\n\n<h2>Questions?</h2
 >\nYou can reach me via WhatsApp or email at <strong><a href="mailto:anri
 f@longevitymontreal.com">anrif@longevitymontreal.com</a></strong> as per y
 our preference.\n\nGroup communications will be taking place in <a href="h
 ttps://chat.whatsapp.com/J7h199WIMyAA4aStKS0hwP">our community's dedicated
  DEXA chat</a>.\n\n<strong>Reserve your spot by emailing your info\, with 
 confirmation of your payment. </strong>\n\nSee you on Saturday\, November 
 29!\n\n-Anrif
URL:https://www.q2lifespan.com/events/dexa-scan-radiomedic-november-29th-20
 25/
LAST-MODIFIED:20251124T170928Z
CREATED:20251110T172137Z
BEGIN:VALARM
TRIGGER:-PT1H
ACTION:DISPLAY
DESCRIPTION:Event reminder
END:VALARM
END:VEVENT
END:VCALENDAR
